Workbook

Sheet Как пользоваться
A1: Шаблон учёта абонементов персонального тренера — promo.mymuscule.ru/blog/uchet-abonementov-trenera/
A3: 1. Лист «Абонементы»: одна строка — один клиент и его текущий пакет.
A4: Продлил пакет — обнови в той же строке начало, срок, цену и оплату: «Проведено» пересчитается с новой даты начала.
A5: 2. Лист «Занятия»: после каждого проведённого занятия одна строка — дата и имя клиента.
A6: Имя пиши так же, как в «Абонементах», иначе занятие не засчитается.
A7: 3. «Проведено», «Осталось» и «Статус» считаются сами. Их не трогай.
A8: Долг — пакет не оплачен. Продлить — осталось 1 занятие или меньше, либо срок вышел.
A9: 4. Примеры (Марина, Игорь, Анна) удали и вноси своих клиентов.
A11: Если надоест отмечать занятия руками: в Muscule занятие списывается само по проведённой тренировке. Бесплатно, в браузере — mymuscule.ru

Sheet Абонементы
A1: Клиент | B1: Занятий в пакете | C1: Цена, ₽ | D1: Оплачено (да/нет) | E1: Дата оплаты | F1: Начало | G1: Действует до | H1: Проведено | I1: Осталось | J1: Статус
A2: Марина | B2: 10 | C2: 25000 | D2: да | E2: 46266 | F2: 46266 | G2: 46326 | H2: =IF(A2="","",COUNTIFS('Занятия'!$B:$B,A2,'Занятия'!$A:$A,">="&F2,'Занятия'!$A:$A,"<="&G2)) | I2: =IF(A2="","",B2-H2) | J2: =IF(A2="","",IF(D2<>"да","Долг",IF(OR(I2<=1,TODAY()>G2),"Продлить","ОК")))
A3: Игорь | B3: 8 | C3: 20000 | D3: нет | F3: 46272 | G3: 46302 | H3: =IF(A3="","",COUNTIFS('Занятия'!$B:$B,A3,'Занятия'!$A:$A,">="&F3,'Занятия'!$A:$A,"<="&G3)) | I3: =IF(A3="","",B3-H3) | J3: =IF(A3="","",IF(D3<>"да","Долг",IF(OR(I3<=1,TODAY()>G3),"Продлить","ОК")))
A4: Анна | B4: 12 | C4: 28800 | D4: да | E4: 46254 | F4: 46254 | G4: 46315 | H4: =IF(A4="","",COUNTIFS('Занятия'!$B:$B,A4,'Занятия'!$A:$A,">="&F4,'Занятия'!$A:$A,"<="&G4)) | I4: =IF(A4="","",B4-H4) | J4: =IF(A4="","",IF(D4<>"да","Долг",IF(OR(I4<=1,TODAY()>G4),"Продлить","ОК")))
H5: =IF(A5="","",COUNTIFS('Занятия'!$B:$B,A5,'Занятия'!$A:$A,">="&F5,'Занятия'!$A:$A,"<="&G5)) | I5: =IF(A5="","",B5-H5) | J5: =IF(A5="","",IF(D5<>"да","Долг",IF(OR(I5<=1,TODAY()>G5),"Продлить","ОК")))
H6: =IF(A6="","",COUNTIFS('Занятия'!$B:$B,A6,'Занятия'!$A:$A,">="&F6,'Занятия'!$A:$A,"<="&G6)) | I6: =IF(A6="","",B6-H6) | J6: =IF(A6="","",IF(D6<>"да","Долг",IF(OR(I6<=1,TODAY()>G6),"Продлить","ОК")))
H7: =IF(A7="","",COUNTIFS('Занятия'!$B:$B,A7,'Занятия'!$A:$A,">="&F7,'Занятия'!$A:$A,"<="&G7)) | I7: =IF(A7="","",B7-H7) | J7: =IF(A7="","",IF(D7<>"да","Долг",IF(OR(I7<=1,TODAY()>G7),"Продлить","ОК")))
H8: =IF(A8="","",COUNTIFS('Занятия'!$B:$B,A8,'Занятия'!$A:$A,">="&F8,'Занятия'!$A:$A,"<="&G8)) | I8: =IF(A8="","",B8-H8) | J8: =IF(A8="","",IF(D8<>"да","Долг",IF(OR(I8<=1,TODAY()>G8),"Продлить","ОК")))
H9: =IF(A9="","",COUNTIFS('Занятия'!$B:$B,A9,'Занятия'!$A:$A,">="&F9,'Занятия'!$A:$A,"<="&G9)) | I9: =IF(A9="","",B9-H9) | J9: =IF(A9="","",IF(D9<>"да","Долг",IF(OR(I9<=1,TODAY()>G9),"Продлить","ОК")))
H10: =IF(A10="","",COUNTIFS('Занятия'!$B:$B,A10,'Занятия'!$A:$A,">="&F10,'Занятия'!$A:$A,"<="&G10)) | I10: =IF(A10="","",B10-H10) | J10: =IF(A10="","",IF(D10<>"да","Долг",IF(OR(I10<=1,TODAY()>G10),"Продлить","ОК")))
H11: =IF(A11="","",COUNTIFS('Занятия'!$B:$B,A11,'Занятия'!$A:$A,">="&F11,'Занятия'!$A:$A,"<="&G11)) | I11: =IF(A11="","",B11-H11) | J11: =IF(A11="","",IF(D11<>"да","Долг",IF(OR(I11<=1,TODAY()>G11),"Продлить","ОК")))
H12: =IF(A12="","",COUNTIFS('Занятия'!$B:$B,A12,'Занятия'!$A:$A,">="&F12,'Занятия'!$A:$A,"<="&G12)) | I12: =IF(A12="","",B12-H12) | J12: =IF(A12="","",IF(D12<>"да","Долг",IF(OR(I12<=1,TODAY()>G12),"Продлить","ОК")))
H13: =IF(A13="","",COUNTIFS('Занятия'!$B:$B,A13,'Занятия'!$A:$A,">="&F13,'Занятия'!$A:$A,"<="&G13)) | I13: =IF(A13="","",B13-H13) | J13: =IF(A13="","",IF(D13<>"да","Долг",IF(OR(I13<=1,TODAY()>G13),"Продлить","ОК")))
H14: =IF(A14="","",COUNTIFS('Занятия'!$B:$B,A14,'Занятия'!$A:$A,">="&F14,'Занятия'!$A:$A,"<="&G14)) | I14: =IF(A14="","",B14-H14) | J14: =IF(A14="","",IF(D14<>"да","Долг",IF(OR(I14<=1,TODAY()>G14),"Продлить","ОК")))
H15: =IF(A15="","",COUNTIFS('Занятия'!$B:$B,A15,'Занятия'!$A:$A,">="&F15,'Занятия'!$A:$A,"<="&G15)) | I15: =IF(A15="","",B15-H15) | J15: =IF(A15="","",IF(D15<>"да","Долг",IF(OR(I15<=1,TODAY()>G15),"Продлить","ОК")))
H16: =IF(A16="","",COUNTIFS('Занятия'!$B:$B,A16,'Занятия'!$A:$A,">="&F16,'Занятия'!$A:$A,"<="&G16)) | I16: =IF(A16="","",B16-H16) | J16: =IF(A16="","",IF(D16<>"да","Долг",IF(OR(I16<=1,TODAY()>G16),"Продлить","ОК")))
... H201: =IF(A201="","",COUNTIFS('Занятия'!$B:$B,A201,'Занятия'!$A:$A,">="&F201,'Занятия'!$A:$A,"<="&G201)) | I201: =IF(A201="","",B201-H201) | J201: =IF(A201="","",IF(D201<>"да","Долг",IF(OR(I201<=1,TODAY()>G201),"Продлить","ОК")))

Sheet Занятия
A1: Дата | B1: Клиент | C1: Заметка
A2: 46268 | B2: Марина
A3: 46272 | B3: Марина
A4: 46275 | B4: Марина | C4: присед 50 × 8
A5: 46279 | B5: Марина
A6: 46273 | B6: Игорь | C6: первое занятие
A7: 46280 | B7: Игорь
A8: 46254 | B8: Анна
A9: 46257 | B9: Анна
A10: 46260 | B10: Анна
A11: 46263 | B11: Анна
A12: 46266 | B12: Анна
A13: 46269 | B13: Анна
A14: 46272 | B14: Анна
A15: 46275 | B15: Анна
A16: 46278 | B16: Анна
A17: 46281 | B17: Анна
A18: 46284 | B18: Анна
